BEGIN:VCALENDAR
VERSION:2.0
PRODID:-//Northeast Ohio Amish Country - ECPv6.15.18//NONSGML v1.0//EN
CALSCALE:GREGORIAN
METHOD:PUBLISH
X-WR-CALNAME:Northeast Ohio Amish Country
X-ORIGINAL-URL:https://neoamishcountry.com
X-WR-CALDESC:Events for Northeast Ohio Amish Country
REFRESH-INTERVAL;VALUE=DURATION:PT1H
X-Robots-Tag:noindex
X-PUBLISHED-TTL:PT1H
BEGIN:VTIMEZONE
TZID:America/New_York
BEGIN:DAYLIGHT
TZOFFSETFROM:-0500
TZOFFSETTO:-0400
TZNAME:EDT
DTSTART:20230312T070000
END:DAYLIGHT
BEGIN:STANDARD
TZOFFSETFROM:-0400
TZOFFSETTO:-0500
TZNAME:EST
DTSTART:20231105T060000
END:STANDARD
BEGIN:DAYLIGHT
TZOFFSETFROM:-0500
TZOFFSETTO:-0400
TZNAME:EDT
DTSTART:20240310T070000
END:DAYLIGHT
BEGIN:STANDARD
TZOFFSETFROM:-0400
TZOFFSETTO:-0500
TZNAME:EST
DTSTART:20241103T060000
END:STANDARD
BEGIN:DAYLIGHT
TZOFFSETFROM:-0500
TZOFFSETTO:-0400
TZNAME:EDT
DTSTART:20250309T070000
END:DAYLIGHT
BEGIN:STANDARD
TZOFFSETFROM:-0400
TZOFFSETTO:-0500
TZNAME:EST
DTSTART:20251102T060000
END:STANDARD
END:VTIMEZONE
BEGIN:VEVENT
DTSTART;TZID=America/New_York:20241108T150000
DTEND;TZID=America/New_York:20241110T140000
DTSTAMP:20260424T123059
CREATED:20241017T195747Z
LAST-MODIFIED:20241017T195828Z
UID:10000008-1731078000-1731247200@neoamishcountry.com
SUMMARY:Annual Christmas Open House
DESCRIPTION:Event Title: Annual Christmas Open House \nDates: \n\nNovember 8th: 3 PM – 8 PM\nNovember 9th: 10 AM – 5 PM\nNovember 10th: 11 AM – 2 PM\n\nLocation: Undercover Charm\n14531 N Cheshire St.\,\nBurton\, OH 44021 \nDescription: Save the date for Undercover Charm’s Annual Christmas Open House! Join us for a festive celebration filled with savory bites and refreshments. Explore our holiday offerings and get into the spirit of the season. Bring your friends and family for a delightful experience! \nRSVP: Not required.
URL:https://neoamishcountry.com/event/annual-christmas-open-house/
LOCATION:Undercover Charm\, 14531 N Cheshire St.\,\, Burton\, OH\, 44021\, United States
CATEGORIES:Collectables
END:VEVENT
END:VCALENDAR