BEGIN:VCALENDAR
VERSION:2.0
PRODID:-//Northeast Ohio Amish Country - ECPv6.15.18//NONSGML v1.0//EN
CALSCALE:GREGORIAN
METHOD:PUBLISH
X-WR-CALNAME:Northeast Ohio Amish Country
X-ORIGINAL-URL:https://neoamishcountry.com
X-WR-CALDESC:Events for Northeast Ohio Amish Country
REFRESH-INTERVAL;VALUE=DURATION:PT1H
X-Robots-Tag:noindex
X-PUBLISHED-TTL:PT1H
BEGIN:VTIMEZONE
TZID:America/New_York
BEGIN:DAYLIGHT
TZOFFSETFROM:-0500
TZOFFSETTO:-0400
TZNAME:EDT
DTSTART:20230312T070000
END:DAYLIGHT
BEGIN:STANDARD
TZOFFSETFROM:-0400
TZOFFSETTO:-0500
TZNAME:EST
DTSTART:20231105T060000
END:STANDARD
BEGIN:DAYLIGHT
TZOFFSETFROM:-0500
TZOFFSETTO:-0400
TZNAME:EDT
DTSTART:20240310T070000
END:DAYLIGHT
BEGIN:STANDARD
TZOFFSETFROM:-0400
TZOFFSETTO:-0500
TZNAME:EST
DTSTART:20241103T060000
END:STANDARD
BEGIN:DAYLIGHT
TZOFFSETFROM:-0500
TZOFFSETTO:-0400
TZNAME:EDT
DTSTART:20250309T070000
END:DAYLIGHT
BEGIN:STANDARD
TZOFFSETFROM:-0400
TZOFFSETTO:-0500
TZNAME:EST
DTSTART:20251102T060000
END:STANDARD
END:VTIMEZONE
BEGIN:VEVENT
DTSTART;TZID=America/New_York:20241019T173000
DTEND;TZID=America/New_York:20241019T210000
DTSTAMP:20260422T142722
CREATED:20241017T195542Z
LAST-MODIFIED:20241017T195542Z
UID:10000007-1729359000-1729371600@neoamishcountry.com
SUMMARY:Annual Autumn Sip & Shop
DESCRIPTION:Event Title: Annual Autumn Sip & Shop \nDate: Saturday\, October 19th \nTime: 5:30 PM – 9:30 PM \nLocation: Marketplace Mall\n15596 W High Street\,\nMiddlefield\, OH 44062 \nDescription: Join us for the Annual Autumn Sip & Shop at our new store location! Enjoy a delightful evening filled with adult beverages\, snacks\, sales\, and exciting giveaways. Explore unique offerings from talented vendors\, including custom-made dog tags\, tea leaf readings\, and angel card readings. This is a fun-filled event you won’t want to miss! Arrive early to take full advantage of everything we have to offer. \nRSVP: Not required\, but early arrival is encouraged!
URL:https://neoamishcountry.com/event/annual-autumn-sip-shop/
LOCATION:Marketplace Mall\, 15596 W High Street\,\, Middlefield\, OH\, 44062\, United States
CATEGORIES:Collectables
END:VEVENT
END:VCALENDAR