BEGIN:VCALENDAR
VERSION:2.0
PRODID:-//Northeast Ohio Amish Country - ECPv6.15.18//NONSGML v1.0//EN
CALSCALE:GREGORIAN
METHOD:PUBLISH
X-WR-CALNAME:Northeast Ohio Amish Country
X-ORIGINAL-URL:https://neoamishcountry.com
X-WR-CALDESC:Events for Northeast Ohio Amish Country
REFRESH-INTERVAL;VALUE=DURATION:PT1H
X-Robots-Tag:noindex
X-PUBLISHED-TTL:PT1H
BEGIN:VTIMEZONE
TZID:America/New_York
BEGIN:DAYLIGHT
TZOFFSETFROM:-0500
TZOFFSETTO:-0400
TZNAME:EDT
DTSTART:20250309T070000
END:DAYLIGHT
BEGIN:STANDARD
TZOFFSETFROM:-0400
TZOFFSETTO:-0500
TZNAME:EST
DTSTART:20251102T060000
END:STANDARD
BEGIN:DAYLIGHT
TZOFFSETFROM:-0500
TZOFFSETTO:-0400
TZNAME:EDT
DTSTART:20260308T070000
END:DAYLIGHT
BEGIN:STANDARD
TZOFFSETFROM:-0400
TZOFFSETTO:-0500
TZNAME:EST
DTSTART:20261101T060000
END:STANDARD
BEGIN:DAYLIGHT
TZOFFSETFROM:-0500
TZOFFSETTO:-0400
TZNAME:EDT
DTSTART:20270314T070000
END:DAYLIGHT
BEGIN:STANDARD
TZOFFSETFROM:-0400
TZOFFSETTO:-0500
TZNAME:EST
DTSTART:20271107T060000
END:STANDARD
END:VTIMEZONE
BEGIN:VEVENT
DTSTART;TZID=America/New_York:20260313T060000
DTEND;TZID=America/New_York:20260313T203000
DTSTAMP:20260421T053601
CREATED:20260219T205540Z
LAST-MODIFIED:20260219T205540Z
UID:10000644-1773381600-1773433800@neoamishcountry.com
SUMMARY:Buffet-Style Breakfast
DESCRIPTION:FRIDAY mornings 6:00am-8:30am \n\nBiscuits & Sausage Gravy\nScrambled Eggs\nHash Browns\nPancakes & Homemade Syrup\nSausage & Ham\nOrange Juice & Grape Juice\nCoffee
URL:https://neoamishcountry.com/event/buffet-style-breakfast-3/
LOCATION:Back 40\, 15405 Burton-Windsor Rd\, Middlefield\, OH\, 44062\, United States
CATEGORIES:Amish Event,Community,Cooking
END:VEVENT
BEGIN:VEVENT
DTSTART;TZID=America/New_York:20260306T060000
DTEND;TZID=America/New_York:20260306T083000
DTSTAMP:20260421T053601
CREATED:20260219T194254Z
LAST-MODIFIED:20260219T205015Z
UID:10000646-1772776800-1772785800@neoamishcountry.com
SUMMARY:Buffet-Style Breakfast
DESCRIPTION:FRIDAY mornings 6:00am-8:30am \n\nBiscuits & Sausage Gravy\nScrambled Eggs\nHash Browns\nPancakes & Homemade Syrup\nSausage & Ham\nOrange Juice & Grape Juice\nCoffee
URL:https://neoamishcountry.com/event/buffet-style-breakfast-2-2/
LOCATION:Back 40\, 15405 Burton-Windsor Rd\, Middlefield\, OH\, 44062\, United States
CATEGORIES:Amish Event,Community,Cooking
END:VEVENT
BEGIN:VEVENT
DTSTART;TZID=America/New_York:20260227T060000
DTEND;TZID=America/New_York:20260227T083000
DTSTAMP:20260421T053601
CREATED:20260219T204835Z
LAST-MODIFIED:20260219T204835Z
UID:10000764-1772172000-1772181000@neoamishcountry.com
SUMMARY:Buffet-Style Breakfast
DESCRIPTION:FRIDAY mornings 6:00am-8:30am \n\nBiscuits & Sausage Gravy\nScrambled Eggs\nHash Browns\nPancakes & Homemade Syrup\nSausage & Ham\nOrange Juice & Grape Juice\nCoffee
URL:https://neoamishcountry.com/event/buffet-style-breakfast-2-3/
LOCATION:Back 40\, 15405 Burton-Windsor Rd\, Middlefield\, OH\, 44062\, United States
CATEGORIES:Amish Event,Community,Cooking
END:VEVENT
BEGIN:VEVENT
DTSTART;TZID=America/New_York:20260220T060000
DTEND;TZID=America/New_York:20260220T083000
DTSTAMP:20260421T053601
CREATED:20260219T193915Z
LAST-MODIFIED:20260219T212647Z
UID:10000765-1771567200-1771576200@neoamishcountry.com
SUMMARY:Buffet-Style Breakfast
DESCRIPTION:FRIDAY mornings 6:00am-8:30am \n\nBiscuits & Sausage Gravy\nScrambled Eggs\nHash Browns\nPancakes & Homemade Syrup\nSausage & Ham\nOrange Juice & Grape Juice\nCoffee
URL:https://neoamishcountry.com/event/buffet-style-breakfast-2/
LOCATION:Back 40\, 15405 Burton-Windsor Rd\, Middlefield\, OH\, 44062\, United States
CATEGORIES:Amish Event,Community,Cooking
END:VEVENT
END:VCALENDAR